BEGIN:VCALENDAR
VERSION:2.0
PRODID:-//Tukios.com/
BEGIN:VEVENT
UID:38b52de7-fdaf-45c9-8dcc-53f66c342f06@www.brenny.com
DTSTAMP:20260421T010451Z
DTSTART:20260502T160000Z
DTEND:20260502T190000Z
SUMMARY:Celebration of Life
DESCRIPTION:
URL:https://www.brenny.com/obituaries/timothy-fread
LOCATION:Majestic Oaks Golf Club 7071 Bunker Lake Boulevard Northeast  
	Ham Lake MN 55304
GEO:45.2256658;-93.1630502
END:VEVENT
END:VCALENDAR