BEGIN:VCALENDAR
VERSION:2.0
PRODID:-//Tukios.com/
BEGIN:VEVENT
UID:0af7c3ff-2da2-4013-b3a1-c36e5eac4682@www.brenny.com
DTSTAMP:20260421T223610Z
DTSTART:20260530T180000Z
DTEND:20260530T190000Z
SUMMARY:Memorial Service
DESCRIPTION:
URL:https://www.brenny.com/obituaries/percy-dubbin
LOCATION:Ideal Township Community Center 35458 Butternut Pointe Road  
	Pequot Lakes MN 56472
GEO:46.6672626;-94.1977955
END:VEVENT
END:VCALENDAR