BEGIN:VCALENDAR
VERSION:2.0
PRODID:-//Tukios.com/
BEGIN:VEVENT
UID:a11cf834-44d8-425e-b5d4-f568a8d0190d@www.brenny.com
DTSTAMP:20260420T195650Z
DTSTART:20260606T160000Z
DTEND:20260606T170000Z
SUMMARY:Funeral Service
DESCRIPTION:
URL:https://www.brenny.com/obituaries/laverne-schiller
LOCATION: 7348 Excelsior Rd.  Baxter MN 56425
GEO:46.3550281;-94.2479975
END:VEVENT
END:VCALENDAR