BEGIN:VCALENDAR
VERSION:2.0
PRODID:-//Tukios.com/
BEGIN:VEVENT
UID:a79991a9-ad96-4d62-bb7b-8354efd291ab@www.brenny.com
DTSTAMP:20260420T200002Z
DTSTART:20260606T150000Z
DTEND:20260606T160000Z
SUMMARY:Visitation
DESCRIPTION:
URL:https://www.brenny.com/obituaries/laverne-schiller
LOCATION: 7348 Excelsior Rd.  Baxter MN 56425
GEO:46.3550281;-94.2479975
END:VEVENT
END:VCALENDAR