BEGIN:VCALENDAR
VERSION:2.0
PRODID:-//Tukios.com/
BEGIN:VEVENT
UID:19b7d712-ecd1-4dd4-998a-b20369645202@www.brenny.com
DTSTAMP:20260422T014241Z
DTSTART:20260428T160000Z
DTEND:20260428T180000Z
SUMMARY:Memorial Gathering
DESCRIPTION:
URL:https://www.brenny.com/obituaries/laverne-opse
LOCATION: 7348 Excelsior Rd.  Baxter MN 56425
GEO:46.3550281;-94.2479975
END:VEVENT
END:VCALENDAR