BEGIN:VCALENDAR
VERSION:2.0
PRODID:-//Tukios.com/
BEGIN:VEVENT
UID:1ef9a7e7-0496-4ed6-bc22-7023fe33e604@www.brenny.com
DTSTAMP:20260420T212021Z
DTSTART:20260424T170000Z
DTEND:20260424T180000Z
SUMMARY:Visitation
DESCRIPTION:
URL:https://www.brenny.com/obituaries/joseph-dotty
LOCATION:St. Alice Catholic Church 30872 Old Hwy 371  Pequot Lakes MN 
	56472
GEO:46.6011501;-94.3091811
END:VEVENT
END:VCALENDAR