BEGIN:VCALENDAR
VERSION:2.0
PRODID:-//Tukios.com/
BEGIN:VEVENT
UID:05d47f1c-813c-412f-baeb-7f4c77531f08@www.brenny.com
DTSTAMP:20260420T212242Z
DTSTART:20260424T180000Z
DTEND:20260424T190000Z
SUMMARY:Memorial Service
DESCRIPTION:
URL:https://www.brenny.com/obituaries/joseph-dotty
LOCATION:St. Alice Catholic Church 30872 Old Hwy 371  Pequot Lakes MN 
	56472
GEO:46.6011501;-94.3091811
END:VEVENT
END:VCALENDAR