BEGIN:VCALENDAR
VERSION:2.0
PRODID:-//Tukios.com/
BEGIN:VEVENT
UID:ea489d6a-e15a-4550-9a2b-1bc8c8e5bfe1@www.brenny.com
DTSTAMP:20260420T175404Z
DTSTART:20260502T160000Z
DTEND:20260502T170000Z
SUMMARY:Funeral Service
DESCRIPTION:
URL:https://www.brenny.com/obituaries/john-grossbach
LOCATION: 13815 Cherrywood Dr  Baxter MN 56425
GEO:46.3531881;-94.2662733
END:VEVENT
END:VCALENDAR