BEGIN:VCALENDAR
VERSION:2.0
PRODID:-//Tukios.com/
BEGIN:VEVENT
UID:cf65bce2-7b2f-45a7-90ec-7d526a368a9e@www.brenny.com
DTSTAMP:20260421T233608Z
DTSTART:20260516T160000Z
DTEND:20260516T170000Z
SUMMARY:Visitation
DESCRIPTION:
URL:https://www.brenny.com/obituaries/jeffrey-tverberg
LOCATION:Brenny Funeral Home 30208 Lilac Dr  Pequot Lakes MN 56472
GEO:46.5908969;-94.3119888
END:VEVENT
END:VCALENDAR