BEGIN:VCALENDAR
VERSION:2.0
PRODID:-//Tukios.com/
BEGIN:VEVENT
UID:1ee22001-90a9-41cf-a9bb-4427ac786a99@www.brenny.com
DTSTAMP:20260421T233137Z
DTSTART:20260516T170000Z
DTEND:20260516T180000Z
SUMMARY:Memorial Service
DESCRIPTION:
URL:https://www.brenny.com/obituaries/jeffrey-tverberg
LOCATION:Brenny Funeral Home 30208 Lilac Dr  Pequot Lakes MN 56472
GEO:46.5908969;-94.3119888
END:VEVENT
END:VCALENDAR