BEGIN:VCALENDAR
VERSION:2.0
PRODID:-//Tukios.com/
BEGIN:VEVENT
UID:3ce5bbaf-47e5-4e2a-b07d-ca09ef99f6c4@www.brenny.com
DTSTAMP:20260421T185337Z
DTSTART:20260502T150000Z
DTEND:20260502T160000Z
SUMMARY:Visitation
DESCRIPTION:
URL:https://www.brenny.com/obituaries/eugene-platzer
LOCATION: 309 N Fourth Street  Staples MN 56479
GEO:46.3568863;-94.7953474
END:VEVENT
END:VCALENDAR