BEGIN:VCALENDAR
VERSION:2.0
PRODID:-//Tukios.com/
BEGIN:VEVENT
UID:769ad680-e7cd-403c-bdc1-4aca269ff535@www.brenny.com
DTSTAMP:20260421T185338Z
DTSTART:20260501T220000Z
DTEND:20260502T000000Z
SUMMARY:Visitation
DESCRIPTION:
URL:https://www.brenny.com/obituaries/eugene-platzer
LOCATION: 309 N Fourth Street  Staples MN 56479
GEO:46.3568863;-94.7953474
END:VEVENT
END:VCALENDAR