BEGIN:VCALENDAR
VERSION:2.0
PRODID:-//Tukios.com/
BEGIN:VEVENT
UID:635c01a6-dfcf-47e0-a57e-36292571b6fe@www.brenny.com
DTSTAMP:20260422T173812Z
DTSTART:20260502T160000Z
DTEND:20260502T170000Z
SUMMARY:Memorial Service
DESCRIPTION:
URL:https://www.brenny.com/obituaries/blake-baumgartner
LOCATION: 33 Wellwood St  Motley MN 56466
GEO:46.3398312;-94.6451471
END:VEVENT
END:VCALENDAR