BEGIN:VCALENDAR
VERSION:2.0
PRODID:-//Tukios.com/
BEGIN:VEVENT
UID:76959443-b50b-43fd-990b-f48a99ab1622@www.brenny.com
DTSTAMP:20260422T173812Z
DTSTART:20260502T140000Z
DTEND:20260502T160000Z
SUMMARY:Visitation
DESCRIPTION:
URL:https://www.brenny.com/obituaries/blake-baumgartner
LOCATION: 33 Wellwood St  Motley MN 56466
GEO:46.3398312;-94.6451471
END:VEVENT
END:VCALENDAR